BEGIN:VCALENDAR
PRODID:-//Pixl8//Eventfolio//EN
VERSION:2.0
X-WR-TIMEZONE:Europe/London
CALSCALE:GREGORIAN
METHOD:PUBLISH
CLASS:PUBLIC
BEGIN:VTIMEZONE
TZID:Europe/London
LAST-MODIFIED:20260306T231828Z
TZURL:https://www.tzurl.org/zoneinfo-outlook/Europe/London
X-LIC-LOCATION:Europe/London
BEGIN:DAYLIGHT
TZNAME:BST
TZOFFSETFROM:+0000
TZOFFSETTO:+0100
DTSTART:19700329T010000
RRULE:FREQ=YEARLY;BYMONTH=3;BYDAY=-1SU
END:DAYLIGHT
BEGIN:STANDARD
TZNAME:GMT
TZOFFSETFROM:+0100
TZOFFSETTO:+0000
DTSTART:19701025T020000
RRULE:FREQ=YEARLY;BYMONTH=10;BYDAY=-1SU
END:STANDARD
END:VTIMEZONE
BEGIN:VEVENT
DTSTART;TZID=Europe/London:20250529T140000
DTEND;TZID=Europe/London:20250529T150000
DTSTAMP:20260423T042356Z
UID:{CF08A61C-87EB-4816-BA382136A58BA1C5}
LOCATION:
SUMMARY:Ask me anything
DESCRIPTION:An opportunity for Student and Junior Associate members to put their questions to experienced professionals.\n
 \n
 Event details: https://www.iti.org.uk/training/events-calendar/ask-me-anything25.html
PRIORITY:1
END:VEVENT
END:VCALENDAR