BEGIN:VCALENDAR
PRODID:-//Pixl8//Eventfolio//EN
VERSION:2.0
X-WR-TIMEZONE:Europe/London
CALSCALE:GREGORIAN
METHOD:PUBLISH
CLASS:PUBLIC
BEGIN:VTIMEZONE
TZID:Europe/London
LAST-MODIFIED:20260306T231828Z
TZURL:https://www.tzurl.org/zoneinfo-outlook/Europe/London
X-LIC-LOCATION:Europe/London
BEGIN:DAYLIGHT
TZNAME:BST
TZOFFSETFROM:+0000
TZOFFSETTO:+0100
DTSTART:19700329T010000
RRULE:FREQ=YEARLY;BYMONTH=3;BYDAY=-1SU
END:DAYLIGHT
BEGIN:STANDARD
TZNAME:GMT
TZOFFSETFROM:+0100
TZOFFSETTO:+0000
DTSTART:19701025T020000
RRULE:FREQ=YEARLY;BYMONTH=10;BYDAY=-1SU
END:STANDARD
END:VTIMEZONE
BEGIN:VEVENT
DTSTART;TZID=Europe/London:20231116T110000
DTEND;TZID=Europe/London:20231116T120000
DTSTAMP:20260423T161328Z
UID:{4C6955B0-69FA-40F1-BEF2BB8309E68CFA}
LOCATION:
SUMMARY:Beauty, Fashion and Luxury Network: Translating luxury boats 
DESCRIPTION:Event details: https://www.iti.org.uk/training/events-calendar/beauty-fashion-and-luxury-network-translating-luxury-boats.html
PRIORITY:1
END:VEVENT
END:VCALENDAR