BEGIN:VCALENDAR
PRODID:-//Pixl8//Eventfolio//EN
VERSION:2.0
X-WR-TIMEZONE:Europe/London
CALSCALE:GREGORIAN
METHOD:PUBLISH
CLASS:PUBLIC
BEGIN:VTIMEZONE
TZID:Europe/London
LAST-MODIFIED:20260306T231828Z
TZURL:https://www.tzurl.org/zoneinfo-outlook/Europe/London
X-LIC-LOCATION:Europe/London
BEGIN:DAYLIGHT
TZNAME:BST
TZOFFSETFROM:+0000
TZOFFSETTO:+0100
DTSTART:19700329T010000
RRULE:FREQ=YEARLY;BYMONTH=3;BYDAY=-1SU
END:DAYLIGHT
BEGIN:STANDARD
TZNAME:GMT
TZOFFSETFROM:+0100
TZOFFSETTO:+0000
DTSTART:19701025T020000
RRULE:FREQ=YEARLY;BYMONTH=10;BYDAY=-1SU
END:STANDARD
END:VTIMEZONE
BEGIN:VEVENT
DTSTART;TZID=Europe/London:20240313T100000
DTEND;TZID=Europe/London:20240313T113000
DTSTAMP:20260423T110836Z
UID:{859A48FD-2D66-4C61-952A1AFE142A5468}
LOCATION:
SUMMARY:Beauty, Fashion & Luxury Network: Copywriting for the industry
DESCRIPTION:Event details: https://www.iti.org.uk/training/events-calendar/beauty-fashion-luxury-network-copywriting-for-the-industry.html
PRIORITY:1
END:VEVENT
END:VCALENDAR