BEGIN:VCALENDAR
PRODID:-//Pixl8//Eventfolio//EN
VERSION:2.0
X-WR-TIMEZONE:Etc/GMT+1
CALSCALE:GREGORIAN
METHOD:PUBLISH
CLASS:PUBLIC
BEGIN:VTIMEZONE
TZID:Etc/GMT+1
LAST-MODIFIED:20260306T231828Z
TZURL:https://www.tzurl.org/zoneinfo-outlook/Etc/GMT+1
X-LIC-LOCATION:Etc/GMT+1
BEGIN:STANDARD
TZNAME:-01
TZOFFSETFROM:-0100
TZOFFSETTO:-0100
DTSTART:19700101T000000
END:STANDARD
END:VTIMEZONE
BEGIN:VEVENT
DTSTART;TZID=Etc/GMT+1:20250724T090000
DTEND;TZID=Etc/GMT+1:20250725T170000
DTSTAMP:20260423T160331Z
UID:{97BAAECE-FFC6-4DDB-B385C0F6AC2D406E}
LOCATION:Cumbria
SUMMARY:Business retreat for translators
DESCRIPTION:Event details: https://www.iti.org.uk/training/events-calendar/business-retreat-for-translators.html
PRIORITY:1
END:VEVENT
END:VCALENDAR