BEGIN:VCALENDAR
PRODID:-//Pixl8//Eventfolio//EN
VERSION:2.0
X-WR-TIMEZONE:Europe/London
CALSCALE:GREGORIAN
METHOD:PUBLISH
CLASS:PUBLIC
BEGIN:VTIMEZONE
TZID:Europe/London
LAST-MODIFIED:20260306T231828Z
TZURL:https://www.tzurl.org/zoneinfo-outlook/Europe/London
X-LIC-LOCATION:Europe/London
BEGIN:DAYLIGHT
TZNAME:BST
TZOFFSETFROM:+0000
TZOFFSETTO:+0100
DTSTART:19700329T010000
RRULE:FREQ=YEARLY;BYMONTH=3;BYDAY=-1SU
END:DAYLIGHT
BEGIN:STANDARD
TZNAME:GMT
TZOFFSETFROM:+0100
TZOFFSETTO:+0000
DTSTART:19701025T020000
RRULE:FREQ=YEARLY;BYMONTH=10;BYDAY=-1SU
END:STANDARD
END:VTIMEZONE
BEGIN:VEVENT
DTSTART;TZID=Europe/London:20240213T130000
DTEND;TZID=Europe/London:20240213T140000
DTSTAMP:20260423T223156Z
UID:{0B88C2EB-1CE0-40A4-B91C49E89157B4D3}
LOCATION:
SUMMARY:Chat with the Chief Executive - February 
DESCRIPTION:Chat with Sara Crofts the Chief Executive\n
 \n
 Event details: https://www.iti.org.uk/training/events-calendar/chat-with-the-chief-executive-february.html
PRIORITY:1
END:VEVENT
END:VCALENDAR