BEGIN:VCALENDAR
PRODID:-//Pixl8//Eventfolio//EN
VERSION:2.0
X-WR-TIMEZONE:Europe/London
CALSCALE:GREGORIAN
METHOD:PUBLISH
CLASS:PUBLIC
BEGIN:VTIMEZONE
TZID:Europe/London
LAST-MODIFIED:20260306T231828Z
TZURL:https://www.tzurl.org/zoneinfo-outlook/Europe/London
X-LIC-LOCATION:Europe/London
BEGIN:DAYLIGHT
TZNAME:BST
TZOFFSETFROM:+0000
TZOFFSETTO:+0100
DTSTART:19700329T010000
RRULE:FREQ=YEARLY;BYMONTH=3;BYDAY=-1SU
END:DAYLIGHT
BEGIN:STANDARD
TZNAME:GMT
TZOFFSETFROM:+0100
TZOFFSETTO:+0000
DTSTART:19701025T020000
RRULE:FREQ=YEARLY;BYMONTH=10;BYDAY=-1SU
END:STANDARD
END:VTIMEZONE
BEGIN:VEVENT
DTSTART;TZID=Europe/London:20220404T133000
DTEND;TZID=Europe/London:20220404T170000
DTSTAMP:20260423T223214Z
UID:{3285BEB6-0E31-4FF0-BF0499B07AC54FE7.44655}
LOCATION:
SUMMARY:Editing and proofreading – how to get it right
DESCRIPTION:Event details: https://www.iti.org.uk/training/events-calendar/editing-and-proofreading-how-to-get-it-right.html
PRIORITY:1
END:VEVENT
BEGIN:VEVENT
DTSTART;TZID=Europe/London:20220411T133000
DTEND;TZID=Europe/London:20220411T170000
DTSTAMP:20260423T223214Z
UID:{3285BEB6-0E31-4FF0-BF0499B07AC54FE7.44662}
LOCATION:
SUMMARY:Editing and proofreading – how to get it right
DESCRIPTION:Event details: https://www.iti.org.uk/training/events-calendar/editing-and-proofreading-how-to-get-it-right.html
PRIORITY:1
END:VEVENT
END:VCALENDAR