BEGIN:VCALENDAR
PRODID:-//Pixl8//Eventfolio//EN
VERSION:2.0
X-WR-TIMEZONE:Europe/London
CALSCALE:GREGORIAN
METHOD:PUBLISH
CLASS:PUBLIC
BEGIN:VTIMEZONE
TZID:Europe/London
LAST-MODIFIED:20260306T231828Z
TZURL:https://www.tzurl.org/zoneinfo-outlook/Europe/London
X-LIC-LOCATION:Europe/London
BEGIN:DAYLIGHT
TZNAME:BST
TZOFFSETFROM:+0000
TZOFFSETTO:+0100
DTSTART:19700329T010000
RRULE:FREQ=YEARLY;BYMONTH=3;BYDAY=-1SU
END:DAYLIGHT
BEGIN:STANDARD
TZNAME:GMT
TZOFFSETFROM:+0100
TZOFFSETTO:+0000
DTSTART:19701025T020000
RRULE:FREQ=YEARLY;BYMONTH=10;BYDAY=-1SU
END:STANDARD
END:VTIMEZONE
BEGIN:VEVENT
DTSTART;TZID=Europe/London:20230130T181500
DTEND;TZID=Europe/London:20230130T191500
DTSTAMP:20260423T173037Z
UID:{F7586F52-C996-4E5C-9416585DF9C73EDE}
LOCATION:
SUMMARY:Food & Drink Network: Wine presentation by Charlotte Fleming
DESCRIPTION:Event details: https://www.iti.org.uk/training/events-calendar/food-drink-network-wine-presentation-by-charlotte-fleming.html
PRIORITY:1
END:VEVENT
END:VCALENDAR