BEGIN:VCALENDAR
PRODID:-//Pixl8//Eventfolio//EN
VERSION:2.0
X-WR-TIMEZONE:Europe/London
CALSCALE:GREGORIAN
METHOD:PUBLISH
CLASS:PUBLIC
BEGIN:VTIMEZONE
TZID:Europe/London
LAST-MODIFIED:20260306T231828Z
TZURL:https://www.tzurl.org/zoneinfo-outlook/Europe/London
X-LIC-LOCATION:Europe/London
BEGIN:DAYLIGHT
TZNAME:BST
TZOFFSETFROM:+0000
TZOFFSETTO:+0100
DTSTART:19700329T010000
RRULE:FREQ=YEARLY;BYMONTH=3;BYDAY=-1SU
END:DAYLIGHT
BEGIN:STANDARD
TZNAME:GMT
TZOFFSETFROM:+0100
TZOFFSETTO:+0000
DTSTART:19701025T020000
RRULE:FREQ=YEARLY;BYMONTH=10;BYDAY=-1SU
END:STANDARD
END:VTIMEZONE
BEGIN:VEVENT
DTSTART;TZID=Europe/London:20210407T170000
DTEND;TZID=Europe/London:20210407T180000
DTSTAMP:20260423T160428Z
UID:{939F3778-FFD9-40D7-9DD163DA9E6BA518}
LOCATION:
SUMMARY:Interpreters’ Development Network: Conference interpreting in international tribunals
DESCRIPTION:Event details: https://www.iti.org.uk/training/events-calendar/interpreters-development-network-conference-interpreting-in-international-tribunals.html
PRIORITY:1
END:VEVENT
END:VCALENDAR