BEGIN:VCALENDAR
PRODID:-//Pixl8//Eventfolio//EN
VERSION:2.0
X-WR-TIMEZONE:Europe/London
CALSCALE:GREGORIAN
METHOD:PUBLISH
CLASS:PUBLIC
BEGIN:VTIMEZONE
TZID:Europe/London
LAST-MODIFIED:20260306T231828Z
TZURL:https://www.tzurl.org/zoneinfo-outlook/Europe/London
X-LIC-LOCATION:Europe/London
BEGIN:DAYLIGHT
TZNAME:BST
TZOFFSETFROM:+0000
TZOFFSETTO:+0100
DTSTART:19700329T010000
RRULE:FREQ=YEARLY;BYMONTH=3;BYDAY=-1SU
END:DAYLIGHT
BEGIN:STANDARD
TZNAME:GMT
TZOFFSETFROM:+0100
TZOFFSETTO:+0000
DTSTART:19701025T020000
RRULE:FREQ=YEARLY;BYMONTH=10;BYDAY=-1SU
END:STANDARD
END:VTIMEZONE
BEGIN:VEVENT
DTSTART;TZID=Europe/London:20221124T180000
DTEND;TZID=Europe/London:20221124T190000
DTSTAMP:20260423T184728Z
UID:{1FEC03A7-C037-4830-A8AEBE8C6074AB47}
LOCATION:
SUMMARY:Interpreters' Development Network: Debriefing session for linguists experiencing vicarious trauma
DESCRIPTION:Event details: https://www.iti.org.uk/training/events-calendar/interpreters-development-network-debriefing-session-for-linguists-experiencing-vicarious-trauma.html
PRIORITY:1
END:VEVENT
END:VCALENDAR