BEGIN:VCALENDAR
PRODID:-//Pixl8//Eventfolio//EN
VERSION:2.0
X-WR-TIMEZONE:Europe/London
CALSCALE:GREGORIAN
METHOD:PUBLISH
CLASS:PUBLIC
BEGIN:VTIMEZONE
TZID:Europe/London
LAST-MODIFIED:20260306T231828Z
TZURL:https://www.tzurl.org/zoneinfo-outlook/Europe/London
X-LIC-LOCATION:Europe/London
BEGIN:DAYLIGHT
TZNAME:BST
TZOFFSETFROM:+0000
TZOFFSETTO:+0100
DTSTART:19700329T010000
RRULE:FREQ=YEARLY;BYMONTH=3;BYDAY=-1SU
END:DAYLIGHT
BEGIN:STANDARD
TZNAME:GMT
TZOFFSETFROM:+0100
TZOFFSETTO:+0000
DTSTART:19701025T020000
RRULE:FREQ=YEARLY;BYMONTH=10;BYDAY=-1SU
END:STANDARD
END:VTIMEZONE
BEGIN:VEVENT
DTSTART;TZID=Europe/London:20230206T160000
DTEND;TZID=Europe/London:20230206T170000
DTSTAMP:20260423T160325Z
UID:{76C4E661-1191-4B14-96657C2D41A0F375}
LOCATION:
SUMMARY:Interpreters' Development Network: Interpreter role & conflicts of interest 
DESCRIPTION:Event details: https://www.iti.org.uk/training/events-calendar/interpreters-development-network-interpreter-role-conflicts-of-interest.html
PRIORITY:1
END:VEVENT
END:VCALENDAR