BEGIN:VCALENDAR
PRODID:-//Pixl8//Eventfolio//EN
VERSION:2.0
X-WR-TIMEZONE:Etc/GMT+1
CALSCALE:GREGORIAN
METHOD:PUBLISH
CLASS:PUBLIC
BEGIN:VTIMEZONE
TZID:Etc/GMT+1
LAST-MODIFIED:20260306T231828Z
TZURL:https://www.tzurl.org/zoneinfo-outlook/Etc/GMT+1
X-LIC-LOCATION:Etc/GMT+1
BEGIN:STANDARD
TZNAME:-01
TZOFFSETFROM:-0100
TZOFFSETTO:-0100
DTSTART:19700101T000000
END:STANDARD
END:VTIMEZONE
BEGIN:VEVENT
DTSTART;TZID=Etc/GMT+1:20240503T170000
DTEND;TZID=Etc/GMT+1:20240503T180000
DTSTAMP:20260423T184310Z
UID:{09126E0A-FBCF-42B0-86405D62929B6361}
LOCATION:
SUMMARY:Interpreters’ Development Network: Terps and the machine
DESCRIPTION:Event details: https://www.iti.org.uk/training/events-calendar/interpreters-development-network-terps-and-the-machine.html
PRIORITY:1
END:VEVENT
END:VCALENDAR