BEGIN:VCALENDAR
PRODID:-//Pixl8//Eventfolio//EN
VERSION:2.0
X-WR-TIMEZONE:Etc/GMT+1
CALSCALE:GREGORIAN
METHOD:PUBLISH
CLASS:PUBLIC
BEGIN:VTIMEZONE
TZID:Etc/GMT+1
LAST-MODIFIED:20260306T231828Z
TZURL:https://www.tzurl.org/zoneinfo-outlook/Etc/GMT+1
X-LIC-LOCATION:Etc/GMT+1
BEGIN:STANDARD
TZNAME:-01
TZOFFSETFROM:-0100
TZOFFSETTO:-0100
DTSTART:19700101T000000
END:STANDARD
END:VTIMEZONE
BEGIN:VEVENT
DTSTART;TZID=Etc/GMT+1:20241021T180000
DTEND;TZID=Etc/GMT+1:20241021T193000
DTSTAMP:20260423T160326Z
UID:{B825F912-9DBF-40E3-926F2545E11F354B}
LOCATION:
SUMMARY:Interpreters Development Network: Videos kill the interpreter. Or do they?
DESCRIPTION:Event details: https://www.iti.org.uk/training/events-calendar/interpreters-development-network-videos-kill-the-interpreter-or-do-they.html
PRIORITY:1
END:VEVENT
END:VCALENDAR