BEGIN:VCALENDAR
PRODID:-//Pixl8//Eventfolio//EN
VERSION:2.0
X-WR-TIMEZONE:Europe/London
CALSCALE:GREGORIAN
METHOD:PUBLISH
CLASS:PUBLIC
BEGIN:VTIMEZONE
TZID:Europe/London
LAST-MODIFIED:20260306T231828Z
TZURL:https://www.tzurl.org/zoneinfo-outlook/Europe/London
X-LIC-LOCATION:Europe/London
BEGIN:DAYLIGHT
TZNAME:BST
TZOFFSETFROM:+0000
TZOFFSETTO:+0100
DTSTART:19700329T010000
RRULE:FREQ=YEARLY;BYMONTH=3;BYDAY=-1SU
END:DAYLIGHT
BEGIN:STANDARD
TZNAME:GMT
TZOFFSETFROM:+0100
TZOFFSETTO:+0000
DTSTART:19701025T020000
RRULE:FREQ=YEARLY;BYMONTH=10;BYDAY=-1SU
END:STANDARD
END:VTIMEZONE
BEGIN:VEVENT
DTSTART;TZID=Europe/London:20250605T170000
DTEND;TZID=Europe/London:20250605T183000
DTSTAMP:20260423T160048Z
UID:{FD724313-9B9E-44F4-8999B04CDF9AB5CC.45813}
LOCATION:
SUMMARY:Interpreting and AI
DESCRIPTION:Event details: https://www.iti.org.uk/training/events-calendar/interpreting-and-ai.html
PRIORITY:1
END:VEVENT
BEGIN:VEVENT
DTSTART;TZID=Europe/London:20250612T170000
DTEND;TZID=Europe/London:20250612T183000
DTSTAMP:20260423T160048Z
UID:{FD724313-9B9E-44F4-8999B04CDF9AB5CC.45820}
LOCATION:
SUMMARY:Interpreting and AI
DESCRIPTION:Event details: https://www.iti.org.uk/training/events-calendar/interpreting-and-ai.html
PRIORITY:1
END:VEVENT
BEGIN:VEVENT
DTSTART;TZID=Europe/London:20250619T170000
DTEND;TZID=Europe/London:20250619T183000
DTSTAMP:20260423T160048Z
UID:{FD724313-9B9E-44F4-8999B04CDF9AB5CC.45827}
LOCATION:
SUMMARY:Interpreting and AI
DESCRIPTION:Event details: https://www.iti.org.uk/training/events-calendar/interpreting-and-ai.html
PRIORITY:1
END:VEVENT
BEGIN:VEVENT
DTSTART;TZID=Europe/London:20250626T170000
DTEND;TZID=Europe/London:20250626T183000
DTSTAMP:20260423T160048Z
UID:{FD724313-9B9E-44F4-8999B04CDF9AB5CC.45834}
LOCATION:
SUMMARY:Interpreting and AI
DESCRIPTION:Event details: https://www.iti.org.uk/training/events-calendar/interpreting-and-ai.html
PRIORITY:1
END:VEVENT
BEGIN:VEVENT
DTSTART;TZID=Europe/London:20250703T170000
DTEND;TZID=Europe/London:20250703T183000
DTSTAMP:20260423T160048Z
UID:{FD724313-9B9E-44F4-8999B04CDF9AB5CC.45841}
LOCATION:
SUMMARY:Interpreting and AI
DESCRIPTION:Event details: https://www.iti.org.uk/training/events-calendar/interpreting-and-ai.html
PRIORITY:1
END:VEVENT
BEGIN:VEVENT
DTSTART;TZID=Europe/London:20250710T170000
DTEND;TZID=Europe/London:20250710T183000
DTSTAMP:20260423T160048Z
UID:{FD724313-9B9E-44F4-8999B04CDF9AB5CC.45848}
LOCATION:
SUMMARY:Interpreting and AI
DESCRIPTION:Event details: https://www.iti.org.uk/training/events-calendar/interpreting-and-ai.html
PRIORITY:1
END:VEVENT
BEGIN:VEVENT
DTSTART;TZID=Europe/London:20250717T170000
DTEND;TZID=Europe/London:20250717T183000
DTSTAMP:20260423T160048Z
UID:{FD724313-9B9E-44F4-8999B04CDF9AB5CC.45855}
LOCATION:
SUMMARY:Interpreting and AI
DESCRIPTION:Event details: https://www.iti.org.uk/training/events-calendar/interpreting-and-ai.html
PRIORITY:1
END:VEVENT
BEGIN:VEVENT
DTSTART;TZID=Europe/London:20250724T170000
DTEND;TZID=Europe/London:20250724T183000
DTSTAMP:20260423T160048Z
UID:{FD724313-9B9E-44F4-8999B04CDF9AB5CC.45862}
LOCATION:
SUMMARY:Interpreting and AI
DESCRIPTION:Event details: https://www.iti.org.uk/training/events-calendar/interpreting-and-ai.html
PRIORITY:1
END:VEVENT
END:VCALENDAR