BEGIN:VCALENDAR
PRODID:-//Pixl8//Eventfolio//EN
VERSION:2.0
X-WR-TIMEZONE:Europe/London
CALSCALE:GREGORIAN
METHOD:PUBLISH
CLASS:PUBLIC
BEGIN:VTIMEZONE
TZID:Europe/London
LAST-MODIFIED:20260306T231828Z
TZURL:https://www.tzurl.org/zoneinfo-outlook/Europe/London
X-LIC-LOCATION:Europe/London
BEGIN:DAYLIGHT
TZNAME:BST
TZOFFSETFROM:+0000
TZOFFSETTO:+0100
DTSTART:19700329T010000
RRULE:FREQ=YEARLY;BYMONTH=3;BYDAY=-1SU
END:DAYLIGHT
BEGIN:STANDARD
TZNAME:GMT
TZOFFSETFROM:+0100
TZOFFSETTO:+0000
DTSTART:19701025T020000
RRULE:FREQ=YEARLY;BYMONTH=10;BYDAY=-1SU
END:STANDARD
END:VTIMEZONE
BEGIN:VEVENT
DTSTART;TZID=Europe/London:20251016T170000
DTEND;TZID=Europe/London:20251016T183000
DTSTAMP:20260423T110312Z
UID:{4720E603-F8B6-41BE-99ADC811E335EA1A.45946}
LOCATION:
SUMMARY:Interpreting and AI
DESCRIPTION:Event details: https://www.iti.org.uk/training/events-calendar/interpreting-and-ai-autumn-2025.html
PRIORITY:1
END:VEVENT
BEGIN:VEVENT
DTSTART;TZID=Europe/London:20251023T170000
DTEND;TZID=Europe/London:20251023T183000
DTSTAMP:20260423T110312Z
UID:{4720E603-F8B6-41BE-99ADC811E335EA1A.45953}
LOCATION:
SUMMARY:Interpreting and AI
DESCRIPTION:Event details: https://www.iti.org.uk/training/events-calendar/interpreting-and-ai-autumn-2025.html
PRIORITY:1
END:VEVENT
BEGIN:VEVENT
DTSTART;TZID=Europe/London:20251030T170000
DTEND;TZID=Europe/London:20251030T183000
DTSTAMP:20260423T110312Z
UID:{4720E603-F8B6-41BE-99ADC811E335EA1A.45960}
LOCATION:
SUMMARY:Interpreting and AI
DESCRIPTION:Event details: https://www.iti.org.uk/training/events-calendar/interpreting-and-ai-autumn-2025.html
PRIORITY:1
END:VEVENT
BEGIN:VEVENT
DTSTART;TZID=Europe/London:20251106T170000
DTEND;TZID=Europe/London:20251106T183000
DTSTAMP:20260423T110312Z
UID:{4720E603-F8B6-41BE-99ADC811E335EA1A.45967}
LOCATION:
SUMMARY:Interpreting and AI
DESCRIPTION:Event details: https://www.iti.org.uk/training/events-calendar/interpreting-and-ai-autumn-2025.html
PRIORITY:1
END:VEVENT
BEGIN:VEVENT
DTSTART;TZID=Europe/London:20251113T170000
DTEND;TZID=Europe/London:20251113T183000
DTSTAMP:20260423T110312Z
UID:{4720E603-F8B6-41BE-99ADC811E335EA1A.45974}
LOCATION:
SUMMARY:Interpreting and AI
DESCRIPTION:Event details: https://www.iti.org.uk/training/events-calendar/interpreting-and-ai-autumn-2025.html
PRIORITY:1
END:VEVENT
BEGIN:VEVENT
DTSTART;TZID=Europe/London:20251120T170000
DTEND;TZID=Europe/London:20251120T183000
DTSTAMP:20260423T110312Z
UID:{4720E603-F8B6-41BE-99ADC811E335EA1A.45981}
LOCATION:
SUMMARY:Interpreting and AI
DESCRIPTION:Event details: https://www.iti.org.uk/training/events-calendar/interpreting-and-ai-autumn-2025.html
PRIORITY:1
END:VEVENT
BEGIN:VEVENT
DTSTART;TZID=Europe/London:20251127T170000
DTEND;TZID=Europe/London:20251127T183000
DTSTAMP:20260423T110312Z
UID:{4720E603-F8B6-41BE-99ADC811E335EA1A.45988}
LOCATION:
SUMMARY:Interpreting and AI
DESCRIPTION:Event details: https://www.iti.org.uk/training/events-calendar/interpreting-and-ai-autumn-2025.html
PRIORITY:1
END:VEVENT
BEGIN:VEVENT
DTSTART;TZID=Europe/London:20251204T170000
DTEND;TZID=Europe/London:20251204T183000
DTSTAMP:20260423T110312Z
UID:{4720E603-F8B6-41BE-99ADC811E335EA1A.45995}
LOCATION:
SUMMARY:Interpreting and AI
DESCRIPTION:Event details: https://www.iti.org.uk/training/events-calendar/interpreting-and-ai-autumn-2025.html
PRIORITY:1
END:VEVENT
END:VCALENDAR