BEGIN:VCALENDAR
PRODID:-//Pixl8//Eventfolio//EN
VERSION:2.0
X-WR-TIMEZONE:Etc/GMT-1
CALSCALE:GREGORIAN
METHOD:PUBLISH
CLASS:PUBLIC
BEGIN:VTIMEZONE
TZID:Etc/GMT-1
LAST-MODIFIED:20260306T231828Z
TZURL:https://www.tzurl.org/zoneinfo-outlook/Etc/GMT-1
X-LIC-LOCATION:Etc/GMT-1
BEGIN:STANDARD
TZNAME:+01
TZOFFSETFROM:+0100
TZOFFSETTO:+0100
DTSTART:19700101T000000
END:STANDARD
END:VTIMEZONE
BEGIN:VEVENT
DTSTART;TZID=Etc/GMT-1:20201016T110000
DTEND;TZID=Etc/GMT-1:20201016T120000
DTSTAMP:20260423T125449Z
UID:{47203FCE-9C9F-44F5-8490C4A8856420F5}
LOCATION:
SUMMARY:ITI's Virtual Coffee Morning
DESCRIPTION:Event details: https://www.iti.org.uk/training/events-calendar/iti-virtual-coffee-morning-oct.html
PRIORITY:1
END:VEVENT
END:VCALENDAR