BEGIN:VCALENDAR
PRODID:-//Pixl8//Eventfolio//EN
VERSION:2.0
X-WR-TIMEZONE:Etc/GMT
CALSCALE:GREGORIAN
METHOD:PUBLISH
CLASS:PUBLIC
BEGIN:VTIMEZONE
TZID:Etc/GMT
LAST-MODIFIED:20260306T231828Z
TZURL:https://www.tzurl.org/zoneinfo-outlook/Etc/GMT
X-LIC-LOCATION:Etc/GMT
BEGIN:STANDARD
TZNAME:GMT
TZOFFSETFROM:+0000
TZOFFSETTO:+0000
DTSTART:19700101T000000
END:STANDARD
END:VTIMEZONE
BEGIN:VEVENT
DTSTART;TZID=Etc/GMT:20230317T140000
DTEND;TZID=Etc/GMT:20230317T160000
DTSTAMP:20260423T211003Z
UID:{FFC0F9F3-E24B-4231-9C63B158B0BE7146.45002}
LOCATION:
SUMMARY:Keeping your English... English in the era of NMT
DESCRIPTION:Event details: https://www.iti.org.uk/training/events-calendar/keep-your-english-english-in-the-era-of-nmt.html
PRIORITY:1
END:VEVENT
BEGIN:VEVENT
DTSTART;TZID=Etc/GMT:20230324T140000
DTEND;TZID=Etc/GMT:20230324T160000
DTSTAMP:20260423T211003Z
UID:{FFC0F9F3-E24B-4231-9C63B158B0BE7146.45009}
LOCATION:
SUMMARY:Keeping your English... English in the era of NMT
DESCRIPTION:Event details: https://www.iti.org.uk/training/events-calendar/keep-your-english-english-in-the-era-of-nmt.html
PRIORITY:1
END:VEVENT
END:VCALENDAR