BEGIN:VCALENDAR
PRODID:-//Pixl8//Eventfolio//EN
VERSION:2.0
X-WR-TIMEZONE:Europe/Dublin
CALSCALE:GREGORIAN
METHOD:PUBLISH
CLASS:PUBLIC
BEGIN:VTIMEZONE
TZID:Europe/Dublin
LAST-MODIFIED:20260306T231828Z
TZURL:https://www.tzurl.org/zoneinfo-outlook/Europe/Dublin
X-LIC-LOCATION:Europe/Dublin
BEGIN:DAYLIGHT
TZNAME:IST
TZOFFSETFROM:+0000
TZOFFSETTO:+0100
DTSTART:19700329T010000
RRULE:FREQ=YEARLY;BYMONTH=3;BYDAY=-1SU
END:DAYLIGHT
BEGIN:STANDARD
TZNAME:GMT
TZOFFSETFROM:+0100
TZOFFSETTO:+0000
DTSTART:19701025T020000
RRULE:FREQ=YEARLY;BYMONTH=10;BYDAY=-1SU
END:STANDARD
END:VTIMEZONE
BEGIN:VEVENT
DTSTART;TZID=Europe/Dublin:20240524T081500
DTEND;TZID=Europe/Dublin:20240524T173000
DTSTAMP:20260423T130402Z
UID:{3AEE50BF-E2C7-4B0E-98318D0497B80791}
LOCATION:Dublin
SUMMARY:Language and the law: Interpreting and translation in legal settings
DESCRIPTION:Event details: https://www.iti.org.uk/training/events-calendar/language-and-the-law-interpreting-and-translation-in-legal-settings24.html
PRIORITY:1
END:VEVENT
END:VCALENDAR