BEGIN:VCALENDAR
PRODID:-//Pixl8//Eventfolio//EN
VERSION:2.0
X-WR-TIMEZONE:Europe/London
CALSCALE:GREGORIAN
METHOD:PUBLISH
CLASS:PUBLIC
BEGIN:VTIMEZONE
TZID:Europe/London
LAST-MODIFIED:20260306T231828Z
TZURL:https://www.tzurl.org/zoneinfo-outlook/Europe/London
X-LIC-LOCATION:Europe/London
BEGIN:DAYLIGHT
TZNAME:BST
TZOFFSETFROM:+0000
TZOFFSETTO:+0100
DTSTART:19700329T010000
RRULE:FREQ=YEARLY;BYMONTH=3;BYDAY=-1SU
END:DAYLIGHT
BEGIN:STANDARD
TZNAME:GMT
TZOFFSETFROM:+0100
TZOFFSETTO:+0000
DTSTART:19701025T020000
RRULE:FREQ=YEARLY;BYMONTH=10;BYDAY=-1SU
END:STANDARD
END:VTIMEZONE
BEGIN:VEVENT
DTSTART;TZID=Europe/London:20220721T180000
DTEND;TZID=Europe/London:20220721T210000
DTSTAMP:20260423T110553Z
UID:{61F70C42-B399-4358-B6F18C01F53BBBF7}
LOCATION:Pub walk along the River Thames
SUMMARY:London Regional Group: Annual summer pub crawl
DESCRIPTION:Event details: https://www.iti.org.uk/training/events-calendar/london-regional-group-annual-summer-pub-crawl.html
PRIORITY:1
END:VEVENT
END:VCALENDAR