BEGIN:VCALENDAR
PRODID:-//Pixl8//Eventfolio//EN
VERSION:2.0
X-WR-TIMEZONE:Europe/London
CALSCALE:GREGORIAN
METHOD:PUBLISH
CLASS:PUBLIC
BEGIN:VTIMEZONE
TZID:Europe/London
LAST-MODIFIED:20260306T231828Z
TZURL:https://www.tzurl.org/zoneinfo-outlook/Europe/London
X-LIC-LOCATION:Europe/London
BEGIN:DAYLIGHT
TZNAME:BST
TZOFFSETFROM:+0000
TZOFFSETTO:+0100
DTSTART:19700329T010000
RRULE:FREQ=YEARLY;BYMONTH=3;BYDAY=-1SU
END:DAYLIGHT
BEGIN:STANDARD
TZNAME:GMT
TZOFFSETFROM:+0100
TZOFFSETTO:+0000
DTSTART:19701025T020000
RRULE:FREQ=YEARLY;BYMONTH=10;BYDAY=-1SU
END:STANDARD
END:VTIMEZONE
BEGIN:VEVENT
DTSTART;TZID=Europe/London:20240124T190000
DTEND;TZID=Europe/London:20240124T210000
DTSTAMP:20260421T042010Z
UID:{8DF8BEC6-D111-4AAE-A54C0FF9D31862D9}
LOCATION:London
SUMMARY:London Regional Group: Benefits of working as a social enterprise
DESCRIPTION:Event details: https://www.iti.org.uk/training/events-calendar/london-regional-group-benefits-of-working-as-a-social-enterprise.html
PRIORITY:1
END:VEVENT
END:VCALENDAR