BEGIN:VCALENDAR
PRODID:-//Pixl8//Eventfolio//EN
VERSION:2.0
X-WR-TIMEZONE:Europe/London
CALSCALE:GREGORIAN
METHOD:PUBLISH
CLASS:PUBLIC
BEGIN:VTIMEZONE
TZID:Europe/London
LAST-MODIFIED:20260306T231828Z
TZURL:https://www.tzurl.org/zoneinfo-outlook/Europe/London
X-LIC-LOCATION:Europe/London
BEGIN:DAYLIGHT
TZNAME:BST
TZOFFSETFROM:+0000
TZOFFSETTO:+0100
DTSTART:19700329T010000
RRULE:FREQ=YEARLY;BYMONTH=3;BYDAY=-1SU
END:DAYLIGHT
BEGIN:STANDARD
TZNAME:GMT
TZOFFSETFROM:+0100
TZOFFSETTO:+0000
DTSTART:19701025T020000
RRULE:FREQ=YEARLY;BYMONTH=10;BYDAY=-1SU
END:STANDARD
END:VTIMEZONE
BEGIN:VEVENT
DTSTART;TZID=Europe/London:20240415T120000
DTEND;TZID=Europe/London:20240415T133000
DTSTAMP:20260423T110714Z
UID:{9E1D8EAA-07CA-4089-86044B2D82130B15}
LOCATION:
SUMMARY:Medical & Pharmaceutical Network: Sitting is the new smoking
DESCRIPTION:Event details: https://www.iti.org.uk/training/events-calendar/medical-pharmaceutical-network-sitting-is-the-new-smoking.html
PRIORITY:1
END:VEVENT
END:VCALENDAR