BEGIN:VCALENDAR
PRODID:-//Pixl8//Eventfolio//EN
VERSION:2.0
X-WR-TIMEZONE:Europe/London
CALSCALE:GREGORIAN
METHOD:PUBLISH
CLASS:PUBLIC
BEGIN:VTIMEZONE
TZID:Europe/London
LAST-MODIFIED:20260306T231828Z
TZURL:https://www.tzurl.org/zoneinfo-outlook/Europe/London
X-LIC-LOCATION:Europe/London
BEGIN:DAYLIGHT
TZNAME:BST
TZOFFSETFROM:+0000
TZOFFSETTO:+0100
DTSTART:19700329T010000
RRULE:FREQ=YEARLY;BYMONTH=3;BYDAY=-1SU
END:DAYLIGHT
BEGIN:STANDARD
TZNAME:GMT
TZOFFSETFROM:+0100
TZOFFSETTO:+0000
DTSTART:19701025T020000
RRULE:FREQ=YEARLY;BYMONTH=10;BYDAY=-1SU
END:STANDARD
END:VTIMEZONE
BEGIN:VEVENT
DTSTART;TZID=Europe/London:20230521T120000
DTEND;TZID=Europe/London:20230521T170000
DTSTAMP:20260423T173112Z
UID:{1BDBD0C0-30DB-4C1D-9C1EFB043F2E0847}
LOCATION:
SUMMARY:North West Translators' Network: RHS Garden Bridgewater, Salford
DESCRIPTION:Event details: https://www.iti.org.uk/training/events-calendar/north-west-translators-network-rhs-garden-bridgewater-salford.html
PRIORITY:1
END:VEVENT
END:VCALENDAR