BEGIN:VCALENDAR
PRODID:-//Pixl8//Eventfolio//EN
VERSION:2.0
X-WR-TIMEZONE:Europe/London
CALSCALE:GREGORIAN
METHOD:PUBLISH
CLASS:PUBLIC
BEGIN:VTIMEZONE
TZID:Europe/London
LAST-MODIFIED:20260306T231828Z
TZURL:https://www.tzurl.org/zoneinfo-outlook/Europe/London
X-LIC-LOCATION:Europe/London
BEGIN:DAYLIGHT
TZNAME:BST
TZOFFSETFROM:+0000
TZOFFSETTO:+0100
DTSTART:19700329T010000
RRULE:FREQ=YEARLY;BYMONTH=3;BYDAY=-1SU
END:DAYLIGHT
BEGIN:STANDARD
TZNAME:GMT
TZOFFSETFROM:+0100
TZOFFSETTO:+0000
DTSTART:19701025T020000
RRULE:FREQ=YEARLY;BYMONTH=10;BYDAY=-1SU
END:STANDARD
END:VTIMEZONE
BEGIN:VEVENT
DTSTART;TZID=Europe/London:20210611T110000
DTEND;TZID=Europe/London:20210611T121500
DTSTAMP:20260423T161145Z
UID:{3635F96F-2CF4-4AE3-8344877369E5049E.44358}
LOCATION:Online
SUMMARY:Raising the bar in legal translation
DESCRIPTION:Event details: https://www.iti.org.uk/training/events-calendar/raising-the-bar-in-legal-translation.html
PRIORITY:1
END:VEVENT
BEGIN:VEVENT
DTSTART;TZID=Europe/London:20210618T110000
DTEND;TZID=Europe/London:20210618T121500
DTSTAMP:20260423T161145Z
UID:{3635F96F-2CF4-4AE3-8344877369E5049E.44365}
LOCATION:Online
SUMMARY:Raising the bar in legal translation
DESCRIPTION:Event details: https://www.iti.org.uk/training/events-calendar/raising-the-bar-in-legal-translation.html
PRIORITY:1
END:VEVENT
BEGIN:VEVENT
DTSTART;TZID=Europe/London:20210625T110000
DTEND;TZID=Europe/London:20210625T121500
DTSTAMP:20260423T161145Z
UID:{3635F96F-2CF4-4AE3-8344877369E5049E.44372}
LOCATION:Online
SUMMARY:Raising the bar in legal translation
DESCRIPTION:Event details: https://www.iti.org.uk/training/events-calendar/raising-the-bar-in-legal-translation.html
PRIORITY:1
END:VEVENT
END:VCALENDAR