BEGIN:VCALENDAR
PRODID:-//Pixl8//Eventfolio//EN
VERSION:2.0
X-WR-TIMEZONE:Europe/London
CALSCALE:GREGORIAN
METHOD:PUBLISH
CLASS:PUBLIC
BEGIN:VTIMEZONE
TZID:Europe/London
LAST-MODIFIED:20260306T231828Z
TZURL:https://www.tzurl.org/zoneinfo-outlook/Europe/London
X-LIC-LOCATION:Europe/London
BEGIN:DAYLIGHT
TZNAME:BST
TZOFFSETFROM:+0000
TZOFFSETTO:+0100
DTSTART:19700329T010000
RRULE:FREQ=YEARLY;BYMONTH=3;BYDAY=-1SU
END:DAYLIGHT
BEGIN:STANDARD
TZNAME:GMT
TZOFFSETFROM:+0100
TZOFFSETTO:+0000
DTSTART:19701025T020000
RRULE:FREQ=YEARLY;BYMONTH=10;BYDAY=-1SU
END:STANDARD
END:VTIMEZONE
BEGIN:VEVENT
DTSTART;TZID=Europe/London;VALUE=DATE:20221214
DTEND;TZID=Europe/London;VALUE=DATE:20221215
DTSTAMP:20260423T114406Z
UID:{E80B5952-9E70-4B93-B29EB1E55D885303.44909}
LOCATION:
SUMMARY:Research Network: Translator profitability workshops
DESCRIPTION:Event details: https://www.iti.org.uk/training/events-calendar/research-network-translator-profitability-workshops.html
PRIORITY:1
END:VEVENT
BEGIN:VEVENT
DTSTART;TZID=Europe/London;VALUE=DATE:20230118
DTEND;TZID=Europe/London;VALUE=DATE:20230119
DTSTAMP:20260423T114406Z
UID:{E80B5952-9E70-4B93-B29EB1E55D885303.44944}
LOCATION:
SUMMARY:Research Network: Translator profitability workshops
DESCRIPTION:Event details: https://www.iti.org.uk/training/events-calendar/research-network-translator-profitability-workshops.html
PRIORITY:1
END:VEVENT
BEGIN:VEVENT
DTSTART;TZID=Europe/London;VALUE=DATE:20230201
DTEND;TZID=Europe/London;VALUE=DATE:20230202
DTSTAMP:20260423T114406Z
UID:{E80B5952-9E70-4B93-B29EB1E55D885303.44958}
LOCATION:
SUMMARY:Research Network: Translator profitability workshops
DESCRIPTION:Event details: https://www.iti.org.uk/training/events-calendar/research-network-translator-profitability-workshops.html
PRIORITY:1
END:VEVENT
END:VCALENDAR