BEGIN:VCALENDAR
PRODID:-//Pixl8//Eventfolio//EN
VERSION:2.0
X-WR-TIMEZONE:Etc/GMT
CALSCALE:GREGORIAN
METHOD:PUBLISH
CLASS:PUBLIC
BEGIN:VTIMEZONE
TZID:Etc/GMT
LAST-MODIFIED:20260306T231828Z
TZURL:https://www.tzurl.org/zoneinfo-outlook/Etc/GMT
X-LIC-LOCATION:Etc/GMT
BEGIN:STANDARD
TZNAME:GMT
TZOFFSETFROM:+0000
TZOFFSETTO:+0000
DTSTART:19700101T000000
END:STANDARD
END:VTIMEZONE
BEGIN:VEVENT
DTSTART;TZID=Etc/GMT:20220919T133000
DTEND;TZID=Etc/GMT:20220919T170000
DTSTAMP:20260423T125747Z
UID:{350EDD59-6DBE-426C-A30F98C58F07A6A0.44823}
LOCATION:
SUMMARY:Specialising in finance translation
DESCRIPTION:Event details: https://www.iti.org.uk/training/events-calendar/specialising-in-finance-translation.html
PRIORITY:1
END:VEVENT
BEGIN:VEVENT
DTSTART;TZID=Etc/GMT:20220926T133000
DTEND;TZID=Etc/GMT:20220926T170000
DTSTAMP:20260423T125747Z
UID:{350EDD59-6DBE-426C-A30F98C58F07A6A0.44830}
LOCATION:
SUMMARY:Specialising in finance translation
DESCRIPTION:Event details: https://www.iti.org.uk/training/events-calendar/specialising-in-finance-translation.html
PRIORITY:1
END:VEVENT
END:VCALENDAR