BEGIN:VCALENDAR
PRODID:-//Pixl8//Eventfolio//EN
VERSION:2.0
X-WR-TIMEZONE:Europe/London
CALSCALE:GREGORIAN
METHOD:PUBLISH
CLASS:PUBLIC
BEGIN:VTIMEZONE
TZID:Europe/London
LAST-MODIFIED:20260306T231828Z
TZURL:https://www.tzurl.org/zoneinfo-outlook/Europe/London
X-LIC-LOCATION:Europe/London
BEGIN:DAYLIGHT
TZNAME:BST
TZOFFSETFROM:+0000
TZOFFSETTO:+0100
DTSTART:19700329T010000
RRULE:FREQ=YEARLY;BYMONTH=3;BYDAY=-1SU
END:DAYLIGHT
BEGIN:STANDARD
TZNAME:GMT
TZOFFSETFROM:+0100
TZOFFSETTO:+0000
DTSTART:19701025T020000
RRULE:FREQ=YEARLY;BYMONTH=10;BYDAY=-1SU
END:STANDARD
END:VTIMEZONE
BEGIN:VEVENT
DTSTART;TZID=Europe/London:20231026T100000
DTEND;TZID=Europe/London:20231026T120000
DTSTAMP:20260420T134230Z
UID:{48873A38-AD91-43A5-A8735DD5151E33F3.45225}
LOCATION:
SUMMARY:Subtitling for beginners
DESCRIPTION:Event details: https://www.iti.org.uk/training/events-calendar/subtitling-for-beginners-oct.html
PRIORITY:1
END:VEVENT
BEGIN:VEVENT
DTSTART;TZID=Europe/London:20231102T100000
DTEND;TZID=Europe/London:20231102T120000
DTSTAMP:20260420T134230Z
UID:{48873A38-AD91-43A5-A8735DD5151E33F3.45232}
LOCATION:
SUMMARY:Subtitling for beginners
DESCRIPTION:Event details: https://www.iti.org.uk/training/events-calendar/subtitling-for-beginners-oct.html
PRIORITY:1
END:VEVENT
END:VCALENDAR