BEGIN:VCALENDAR
PRODID:-//Pixl8//Eventfolio//EN
VERSION:2.0
X-WR-TIMEZONE:Europe/London
CALSCALE:GREGORIAN
METHOD:PUBLISH
CLASS:PUBLIC
BEGIN:VTIMEZONE
TZID:Europe/London
LAST-MODIFIED:20260306T231828Z
TZURL:https://www.tzurl.org/zoneinfo-outlook/Europe/London
X-LIC-LOCATION:Europe/London
BEGIN:DAYLIGHT
TZNAME:BST
TZOFFSETFROM:+0000
TZOFFSETTO:+0100
DTSTART:19700329T010000
RRULE:FREQ=YEARLY;BYMONTH=3;BYDAY=-1SU
END:DAYLIGHT
BEGIN:STANDARD
TZNAME:GMT
TZOFFSETFROM:+0100
TZOFFSETTO:+0000
DTSTART:19701025T020000
RRULE:FREQ=YEARLY;BYMONTH=10;BYDAY=-1SU
END:STANDARD
END:VTIMEZONE
BEGIN:VEVENT
DTSTART;TZID=Europe/London:20210322T110000
DTEND;TZID=Europe/London:20210322T121500
DTSTAMP:20260423T110147Z
UID:{D2755874-B4B3-4ABF-A476D516D6597146.44277}
LOCATION:Online
SUMMARY:Technical translation for the engineering and technology sectors 
DESCRIPTION:Event details: https://www.iti.org.uk/training/events-calendar/technical-translation-for-the-engineering-and-technology-sectors.html
PRIORITY:1
END:VEVENT
BEGIN:VEVENT
DTSTART;TZID=Europe/London:20210329T110000
DTEND;TZID=Europe/London:20210329T121500
DTSTAMP:20260423T110147Z
UID:{D2755874-B4B3-4ABF-A476D516D6597146.44284}
LOCATION:Online
SUMMARY:Technical translation for the engineering and technology sectors 
DESCRIPTION:Event details: https://www.iti.org.uk/training/events-calendar/technical-translation-for-the-engineering-and-technology-sectors.html
PRIORITY:1
END:VEVENT
BEGIN:VEVENT
DTSTART;TZID=Europe/London:20210412T110000
DTEND;TZID=Europe/London:20210412T121500
DTSTAMP:20260423T110147Z
UID:{D2755874-B4B3-4ABF-A476D516D6597146.44298}
LOCATION:Online
SUMMARY:Technical translation for the engineering and technology sectors 
DESCRIPTION:Event details: https://www.iti.org.uk/training/events-calendar/technical-translation-for-the-engineering-and-technology-sectors.html
PRIORITY:1
END:VEVENT
END:VCALENDAR