BEGIN:VCALENDAR
PRODID:-//Pixl8//Eventfolio//EN
VERSION:2.0
X-WR-TIMEZONE:Europe/London
CALSCALE:GREGORIAN
METHOD:PUBLISH
CLASS:PUBLIC
BEGIN:VTIMEZONE
TZID:Europe/London
LAST-MODIFIED:20260306T231828Z
TZURL:https://www.tzurl.org/zoneinfo-outlook/Europe/London
X-LIC-LOCATION:Europe/London
BEGIN:DAYLIGHT
TZNAME:BST
TZOFFSETFROM:+0000
TZOFFSETTO:+0100
DTSTART:19700329T010000
RRULE:FREQ=YEARLY;BYMONTH=3;BYDAY=-1SU
END:DAYLIGHT
BEGIN:STANDARD
TZNAME:GMT
TZOFFSETFROM:+0100
TZOFFSETTO:+0000
DTSTART:19701025T020000
RRULE:FREQ=YEARLY;BYMONTH=10;BYDAY=-1SU
END:STANDARD
END:VTIMEZONE
BEGIN:VEVENT
DTSTART;TZID=Europe/London:20210610T100000
DTEND;TZID=Europe/London:20210610T111500
DTSTAMP:20260423T130131Z
UID:{2BC35C77-7CCE-4883-A790C8E63DC7AEF8.44357}
LOCATION:Online
SUMMARY:Translating and editing for the beauty business
DESCRIPTION:Event details: https://www.iti.org.uk/training/events-calendar/translating-and-editing-for-the-beauty-business.html
PRIORITY:1
END:VEVENT
BEGIN:VEVENT
DTSTART;TZID=Europe/London:20210617T100000
DTEND;TZID=Europe/London:20210617T111500
DTSTAMP:20260423T130131Z
UID:{2BC35C77-7CCE-4883-A790C8E63DC7AEF8.44364}
LOCATION:Online
SUMMARY:Translating and editing for the beauty business
DESCRIPTION:Event details: https://www.iti.org.uk/training/events-calendar/translating-and-editing-for-the-beauty-business.html
PRIORITY:1
END:VEVENT
BEGIN:VEVENT
DTSTART;TZID=Europe/London:20210624T100000
DTEND;TZID=Europe/London:20210624T111500
DTSTAMP:20260423T130131Z
UID:{2BC35C77-7CCE-4883-A790C8E63DC7AEF8.44371}
LOCATION:Online
SUMMARY:Translating and editing for the beauty business
DESCRIPTION:Event details: https://www.iti.org.uk/training/events-calendar/translating-and-editing-for-the-beauty-business.html
PRIORITY:1
END:VEVENT
END:VCALENDAR