BEGIN:VCALENDAR
PRODID:-//Pixl8//Eventfolio//EN
VERSION:2.0
X-WR-TIMEZONE:Europe/London
CALSCALE:GREGORIAN
METHOD:PUBLISH
CLASS:PUBLIC
BEGIN:VTIMEZONE
TZID:Europe/London
LAST-MODIFIED:20260306T231828Z
TZURL:https://www.tzurl.org/zoneinfo-outlook/Europe/London
X-LIC-LOCATION:Europe/London
BEGIN:DAYLIGHT
TZNAME:BST
TZOFFSETFROM:+0000
TZOFFSETTO:+0100
DTSTART:19700329T010000
RRULE:FREQ=YEARLY;BYMONTH=3;BYDAY=-1SU
END:DAYLIGHT
BEGIN:STANDARD
TZNAME:GMT
TZOFFSETFROM:+0100
TZOFFSETTO:+0000
DTSTART:19701025T020000
RRULE:FREQ=YEARLY;BYMONTH=10;BYDAY=-1SU
END:STANDARD
END:VTIMEZONE
BEGIN:VEVENT
DTSTART;TZID=Europe/London:20211129T100000
DTEND;TZID=Europe/London:20211129T111500
DTSTAMP:20260422T183202Z
UID:{BB5D7542-C376-4582-8E99596075C988BA.44529}
LOCATION:Online
SUMMARY:Translating and editing for the beauty business
DESCRIPTION:Event details: https://www.iti.org.uk/training/events-calendar/translating-and-editing-the-beauty-business.html
PRIORITY:1
END:VEVENT
BEGIN:VEVENT
DTSTART;TZID=Europe/London:20211206T100000
DTEND;TZID=Europe/London:20211206T111500
DTSTAMP:20260422T183202Z
UID:{BB5D7542-C376-4582-8E99596075C988BA.44536}
LOCATION:Online
SUMMARY:Translating and editing for the beauty business
DESCRIPTION:Event details: https://www.iti.org.uk/training/events-calendar/translating-and-editing-the-beauty-business.html
PRIORITY:1
END:VEVENT
BEGIN:VEVENT
DTSTART;TZID=Europe/London:20211213T100000
DTEND;TZID=Europe/London:20211213T111500
DTSTAMP:20260422T183202Z
UID:{BB5D7542-C376-4582-8E99596075C988BA.44543}
LOCATION:Online
SUMMARY:Translating and editing for the beauty business
DESCRIPTION:Event details: https://www.iti.org.uk/training/events-calendar/translating-and-editing-the-beauty-business.html
PRIORITY:1
END:VEVENT
END:VCALENDAR