BEGIN:VCALENDAR
PRODID:-//Pixl8//Eventfolio//EN
VERSION:2.0
X-WR-TIMEZONE:Europe/London
CALSCALE:GREGORIAN
METHOD:PUBLISH
CLASS:PUBLIC
BEGIN:VTIMEZONE
TZID:Europe/London
LAST-MODIFIED:20260306T231828Z
TZURL:https://www.tzurl.org/zoneinfo-outlook/Europe/London
X-LIC-LOCATION:Europe/London
BEGIN:DAYLIGHT
TZNAME:BST
TZOFFSETFROM:+0000
TZOFFSETTO:+0100
DTSTART:19700329T010000
RRULE:FREQ=YEARLY;BYMONTH=3;BYDAY=-1SU
END:DAYLIGHT
BEGIN:STANDARD
TZNAME:GMT
TZOFFSETFROM:+0100
TZOFFSETTO:+0000
DTSTART:19701025T020000
RRULE:FREQ=YEARLY;BYMONTH=10;BYDAY=-1SU
END:STANDARD
END:VTIMEZONE
BEGIN:VEVENT
DTSTART;TZID=Europe/London:20240510T170000
DTEND;TZID=Europe/London:20240510T183000
DTSTAMP:20260421T110918Z
UID:{6C7C3500-1709-46EB-B35BCB5457C26564.45422}
LOCATION:
SUMMARY:Translation & AI
DESCRIPTION:Event details: https://www.iti.org.uk/training/events-calendar/translation-and-ai-2.html
PRIORITY:1
END:VEVENT
BEGIN:VEVENT
DTSTART;TZID=Europe/London:20240517T170000
DTEND;TZID=Europe/London:20240517T183000
DTSTAMP:20260421T110918Z
UID:{6C7C3500-1709-46EB-B35BCB5457C26564.45429}
LOCATION:
SUMMARY:Translation & AI
DESCRIPTION:Event details: https://www.iti.org.uk/training/events-calendar/translation-and-ai-2.html
PRIORITY:1
END:VEVENT
BEGIN:VEVENT
DTSTART;TZID=Europe/London:20240524T170000
DTEND;TZID=Europe/London:20240524T183000
DTSTAMP:20260421T110918Z
UID:{6C7C3500-1709-46EB-B35BCB5457C26564.45436}
LOCATION:
SUMMARY:Translation & AI
DESCRIPTION:Event details: https://www.iti.org.uk/training/events-calendar/translation-and-ai-2.html
PRIORITY:1
END:VEVENT
BEGIN:VEVENT
DTSTART;TZID=Europe/London:20240531T170000
DTEND;TZID=Europe/London:20240531T183000
DTSTAMP:20260421T110918Z
UID:{6C7C3500-1709-46EB-B35BCB5457C26564.45443}
LOCATION:
SUMMARY:Translation & AI
DESCRIPTION:Event details: https://www.iti.org.uk/training/events-calendar/translation-and-ai-2.html
PRIORITY:1
END:VEVENT
BEGIN:VEVENT
DTSTART;TZID=Europe/London:20240607T170000
DTEND;TZID=Europe/London:20240607T183000
DTSTAMP:20260421T110918Z
UID:{6C7C3500-1709-46EB-B35BCB5457C26564.45450}
LOCATION:
SUMMARY:Translation & AI
DESCRIPTION:Event details: https://www.iti.org.uk/training/events-calendar/translation-and-ai-2.html
PRIORITY:1
END:VEVENT
BEGIN:VEVENT
DTSTART;TZID=Europe/London:20240614T170000
DTEND;TZID=Europe/London:20240614T183000
DTSTAMP:20260421T110918Z
UID:{6C7C3500-1709-46EB-B35BCB5457C26564.45457}
LOCATION:
SUMMARY:Translation & AI
DESCRIPTION:Event details: https://www.iti.org.uk/training/events-calendar/translation-and-ai-2.html
PRIORITY:1
END:VEVENT
BEGIN:VEVENT
DTSTART;TZID=Europe/London:20240621T170000
DTEND;TZID=Europe/London:20240621T183000
DTSTAMP:20260421T110918Z
UID:{6C7C3500-1709-46EB-B35BCB5457C26564.45464}
LOCATION:
SUMMARY:Translation & AI
DESCRIPTION:Event details: https://www.iti.org.uk/training/events-calendar/translation-and-ai-2.html
PRIORITY:1
END:VEVENT
BEGIN:VEVENT
DTSTART;TZID=Europe/London:20240628T170000
DTEND;TZID=Europe/London:20240628T183000
DTSTAMP:20260421T110918Z
UID:{6C7C3500-1709-46EB-B35BCB5457C26564.45471}
LOCATION:
SUMMARY:Translation & AI
DESCRIPTION:Event details: https://www.iti.org.uk/training/events-calendar/translation-and-ai-2.html
PRIORITY:1
END:VEVENT
BEGIN:VEVENT
DTSTART;TZID=Europe/London:20240705T170000
DTEND;TZID=Europe/London:20240705T183000
DTSTAMP:20260421T110918Z
UID:{6C7C3500-1709-46EB-B35BCB5457C26564.45478}
LOCATION:
SUMMARY:Translation & AI
DESCRIPTION:Event details: https://www.iti.org.uk/training/events-calendar/translation-and-ai-2.html
PRIORITY:1
END:VEVENT
BEGIN:VEVENT
DTSTART;TZID=Europe/London:20240712T170000
DTEND;TZID=Europe/London:20240712T183000
DTSTAMP:20260421T110918Z
UID:{6C7C3500-1709-46EB-B35BCB5457C26564.45485}
LOCATION:
SUMMARY:Translation & AI
DESCRIPTION:Event details: https://www.iti.org.uk/training/events-calendar/translation-and-ai-2.html
PRIORITY:1
END:VEVENT
END:VCALENDAR