BEGIN:VCALENDAR
PRODID:-//Pixl8//Eventfolio//EN
VERSION:2.0
X-WR-TIMEZONE:Europe/London
CALSCALE:GREGORIAN
METHOD:PUBLISH
CLASS:PUBLIC
BEGIN:VTIMEZONE
TZID:Europe/London
LAST-MODIFIED:20260306T231828Z
TZURL:https://www.tzurl.org/zoneinfo-outlook/Europe/London
X-LIC-LOCATION:Europe/London
BEGIN:DAYLIGHT
TZNAME:BST
TZOFFSETFROM:+0000
TZOFFSETTO:+0100
DTSTART:19700329T010000
RRULE:FREQ=YEARLY;BYMONTH=3;BYDAY=-1SU
END:DAYLIGHT
BEGIN:STANDARD
TZNAME:GMT
TZOFFSETFROM:+0100
TZOFFSETTO:+0000
DTSTART:19701025T020000
RRULE:FREQ=YEARLY;BYMONTH=10;BYDAY=-1SU
END:STANDARD
END:VTIMEZONE
BEGIN:VEVENT
DTSTART;TZID=Europe/London:20251010T140000
DTEND;TZID=Europe/London:20251010T153000
DTSTAMP:20260423T160448Z
UID:{C98977EF-A90B-43D7-AC853480E822E9F1.45940}
LOCATION:
SUMMARY:Translation and AI
DESCRIPTION:Event details: https://www.iti.org.uk/training/events-calendar/translation-and-ai-autumn-2025.html
PRIORITY:1
END:VEVENT
BEGIN:VEVENT
DTSTART;TZID=Europe/London:20251017T140000
DTEND;TZID=Europe/London:20251017T153000
DTSTAMP:20260423T160448Z
UID:{C98977EF-A90B-43D7-AC853480E822E9F1.45947}
LOCATION:
SUMMARY:Translation and AI
DESCRIPTION:Event details: https://www.iti.org.uk/training/events-calendar/translation-and-ai-autumn-2025.html
PRIORITY:1
END:VEVENT
BEGIN:VEVENT
DTSTART;TZID=Europe/London:20251024T140000
DTEND;TZID=Europe/London:20251024T153000
DTSTAMP:20260423T160448Z
UID:{C98977EF-A90B-43D7-AC853480E822E9F1.45954}
LOCATION:
SUMMARY:Translation and AI
DESCRIPTION:Event details: https://www.iti.org.uk/training/events-calendar/translation-and-ai-autumn-2025.html
PRIORITY:1
END:VEVENT
BEGIN:VEVENT
DTSTART;TZID=Europe/London:20251031T140000
DTEND;TZID=Europe/London:20251031T153000
DTSTAMP:20260423T160448Z
UID:{C98977EF-A90B-43D7-AC853480E822E9F1.45961}
LOCATION:
SUMMARY:Translation and AI
DESCRIPTION:Event details: https://www.iti.org.uk/training/events-calendar/translation-and-ai-autumn-2025.html
PRIORITY:1
END:VEVENT
BEGIN:VEVENT
DTSTART;TZID=Europe/London:20251107T140000
DTEND;TZID=Europe/London:20251107T153000
DTSTAMP:20260423T160448Z
UID:{C98977EF-A90B-43D7-AC853480E822E9F1.45968}
LOCATION:
SUMMARY:Translation and AI
DESCRIPTION:Event details: https://www.iti.org.uk/training/events-calendar/translation-and-ai-autumn-2025.html
PRIORITY:1
END:VEVENT
BEGIN:VEVENT
DTSTART;TZID=Europe/London:20251114T140000
DTEND;TZID=Europe/London:20251114T153000
DTSTAMP:20260423T160448Z
UID:{C98977EF-A90B-43D7-AC853480E822E9F1.45975}
LOCATION:
SUMMARY:Translation and AI
DESCRIPTION:Event details: https://www.iti.org.uk/training/events-calendar/translation-and-ai-autumn-2025.html
PRIORITY:1
END:VEVENT
BEGIN:VEVENT
DTSTART;TZID=Europe/London:20251121T140000
DTEND;TZID=Europe/London:20251121T153000
DTSTAMP:20260423T160448Z
UID:{C98977EF-A90B-43D7-AC853480E822E9F1.45982}
LOCATION:
SUMMARY:Translation and AI
DESCRIPTION:Event details: https://www.iti.org.uk/training/events-calendar/translation-and-ai-autumn-2025.html
PRIORITY:1
END:VEVENT
BEGIN:VEVENT
DTSTART;TZID=Europe/London:20251128T140000
DTEND;TZID=Europe/London:20251128T153000
DTSTAMP:20260423T160448Z
UID:{C98977EF-A90B-43D7-AC853480E822E9F1.45989}
LOCATION:
SUMMARY:Translation and AI
DESCRIPTION:Event details: https://www.iti.org.uk/training/events-calendar/translation-and-ai-autumn-2025.html
PRIORITY:1
END:VEVENT
BEGIN:VEVENT
DTSTART;TZID=Europe/London:20251205T140000
DTEND;TZID=Europe/London:20251205T153000
DTSTAMP:20260423T160448Z
UID:{C98977EF-A90B-43D7-AC853480E822E9F1.45996}
LOCATION:
SUMMARY:Translation and AI
DESCRIPTION:Event details: https://www.iti.org.uk/training/events-calendar/translation-and-ai-autumn-2025.html
PRIORITY:1
END:VEVENT
BEGIN:VEVENT
DTSTART;TZID=Europe/London:20251212T140000
DTEND;TZID=Europe/London:20251212T153000
DTSTAMP:20260423T160448Z
UID:{C98977EF-A90B-43D7-AC853480E822E9F1.46003}
LOCATION:
SUMMARY:Translation and AI
DESCRIPTION:Event details: https://www.iti.org.uk/training/events-calendar/translation-and-ai-autumn-2025.html
PRIORITY:1
END:VEVENT
END:VCALENDAR