BEGIN:VCALENDAR
PRODID:-//Pixl8//Eventfolio//EN
VERSION:2.0
X-WR-TIMEZONE:Europe/London
CALSCALE:GREGORIAN
METHOD:PUBLISH
CLASS:PUBLIC
BEGIN:VTIMEZONE
TZID:Europe/London
LAST-MODIFIED:20260306T231828Z
TZURL:https://www.tzurl.org/zoneinfo-outlook/Europe/London
X-LIC-LOCATION:Europe/London
BEGIN:DAYLIGHT
TZNAME:BST
TZOFFSETFROM:+0000
TZOFFSETTO:+0100
DTSTART:19700329T010000
RRULE:FREQ=YEARLY;BYMONTH=3;BYDAY=-1SU
END:DAYLIGHT
BEGIN:STANDARD
TZNAME:GMT
TZOFFSETFROM:+0100
TZOFFSETTO:+0000
DTSTART:19701025T020000
RRULE:FREQ=YEARLY;BYMONTH=10;BYDAY=-1SU
END:STANDARD
END:VTIMEZONE
BEGIN:VEVENT
DTSTART;TZID=Europe/London:20220319T140000
DTEND;TZID=Europe/London:20220325T170000
DTSTAMP:20260423T125627Z
UID:{991D6822-BB6A-4F97-8977E3A42E930F8E}
LOCATION:
SUMMARY:Welsh Network: Finding your ideal clients: strategy and execution
DESCRIPTION:Event details: https://www.iti.org.uk/training/events-calendar/welsh-network-finding-your-ideal-clients-strategy-and-execution.html
PRIORITY:1
END:VEVENT
END:VCALENDAR