BEGIN:VCALENDAR
PRODID:-//Pixl8//Eventfolio//EN
VERSION:2.0
X-WR-TIMEZONE:Europe/London
CALSCALE:GREGORIAN
METHOD:PUBLISH
CLASS:PUBLIC
BEGIN:VTIMEZONE
TZID:Europe/London
LAST-MODIFIED:20260306T231828Z
TZURL:https://www.tzurl.org/zoneinfo-outlook/Europe/London
X-LIC-LOCATION:Europe/London
BEGIN:DAYLIGHT
TZNAME:BST
TZOFFSETFROM:+0000
TZOFFSETTO:+0100
DTSTART:19700329T010000
RRULE:FREQ=YEARLY;BYMONTH=3;BYDAY=-1SU
END:DAYLIGHT
BEGIN:STANDARD
TZNAME:GMT
TZOFFSETFROM:+0100
TZOFFSETTO:+0000
DTSTART:19701025T020000
RRULE:FREQ=YEARLY;BYMONTH=10;BYDAY=-1SU
END:STANDARD
END:VTIMEZONE
BEGIN:VEVENT
DTSTART;TZID=Europe/London:20210527T110000
DTEND;TZID=Europe/London:20210527T123000
DTSTAMP:20260423T161342Z
UID:{30FCE4E1-7983-4333-97E20DDBEA6BB1B2}
LOCATION:
SUMMARY:Wessex Regional Group - A virtual tour of Salisbury Cathedral
DESCRIPTION:Event details: https://www.iti.org.uk/training/events-calendar/wessex-regional-group-a-virtual-tour-of-salisbury-cathedral.html
PRIORITY:1
END:VEVENT
END:VCALENDAR