BEGIN:VCALENDAR
PRODID:-//Pixl8//Eventfolio//EN
VERSION:2.0
X-WR-TIMEZONE:Europe/London
CALSCALE:GREGORIAN
METHOD:PUBLISH
CLASS:PUBLIC
BEGIN:VTIMEZONE
TZID:Europe/London
LAST-MODIFIED:20260306T231828Z
TZURL:https://www.tzurl.org/zoneinfo-outlook/Europe/London
X-LIC-LOCATION:Europe/London
BEGIN:DAYLIGHT
TZNAME:BST
TZOFFSETFROM:+0000
TZOFFSETTO:+0100
DTSTART:19700329T010000
RRULE:FREQ=YEARLY;BYMONTH=3;BYDAY=-1SU
END:DAYLIGHT
BEGIN:STANDARD
TZNAME:GMT
TZOFFSETFROM:+0100
TZOFFSETTO:+0000
DTSTART:19701025T020000
RRULE:FREQ=YEARLY;BYMONTH=10;BYDAY=-1SU
END:STANDARD
END:VTIMEZONE
BEGIN:VEVENT
DTSTART;TZID=Europe/London:20231121T103000
DTEND;TZID=Europe/London:20231121T133000
DTSTAMP:20260423T172633Z
UID:{4F5C4B8E-3A33-4FA6-9B2BD7C2571FBB8A}
LOCATION:Wolverhampton
SUMMARY:West Midlands Network: Co-working Wolverhampton Art Gallery 
DESCRIPTION:Event details: https://www.iti.org.uk/training/events-calendar/west-midlands-network-co-working-wolverhampton-art-gallery.html
PRIORITY:1
END:VEVENT
END:VCALENDAR