BEGIN:VCALENDAR
PRODID:-//Pixl8//Eventfolio//EN
VERSION:2.0
X-WR-TIMEZONE:Europe/London
CALSCALE:GREGORIAN
METHOD:PUBLISH
CLASS:PUBLIC
BEGIN:VTIMEZONE
TZID:Europe/London
LAST-MODIFIED:20260306T231828Z
TZURL:https://www.tzurl.org/zoneinfo-outlook/Europe/London
X-LIC-LOCATION:Europe/London
BEGIN:DAYLIGHT
TZNAME:BST
TZOFFSETFROM:+0000
TZOFFSETTO:+0100
DTSTART:19700329T010000
RRULE:FREQ=YEARLY;BYMONTH=3;BYDAY=-1SU
END:DAYLIGHT
BEGIN:STANDARD
TZNAME:GMT
TZOFFSETFROM:+0100
TZOFFSETTO:+0000
DTSTART:19701025T020000
RRULE:FREQ=YEARLY;BYMONTH=10;BYDAY=-1SU
END:STANDARD
END:VTIMEZONE
BEGIN:VEVENT
DTSTART;TZID=Europe/London:20221029T120000
DTEND;TZID=Europe/London:20221029T140000
DTSTAMP:20260423T160752Z
UID:{13AF72C9-C0C9-4254-B9DCDFA869FB037B}
LOCATION:Kenilworth Castle
SUMMARY:West Midlands Regional Group: Halloween meet up
DESCRIPTION:Event details: https://www.iti.org.uk/training/events-calendar/west-midlands-regional-group-halloween-meet-up.html
PRIORITY:1
END:VEVENT
END:VCALENDAR