BEGIN:VCALENDAR
PRODID:-//Pixl8//Eventfolio//EN
VERSION:2.0
X-WR-TIMEZONE:Etc/GMT-1
CALSCALE:GREGORIAN
METHOD:PUBLISH
CLASS:PUBLIC
BEGIN:VTIMEZONE
TZID:Etc/GMT-1
LAST-MODIFIED:20260306T231828Z
TZURL:https://www.tzurl.org/zoneinfo-outlook/Etc/GMT-1
X-LIC-LOCATION:Etc/GMT-1
BEGIN:STANDARD
TZNAME:+01
TZOFFSETFROM:+0100
TZOFFSETTO:+0100
DTSTART:19700101T000000
END:STANDARD
END:VTIMEZONE
BEGIN:VEVENT
DTSTART;TZID=Etc/GMT-1:20210420T110000
DTEND;TZID=Etc/GMT-1:20210420T120000
DTSTAMP:20260423T110132Z
UID:{429489A7-B756-46EF-BEA9F60D20E2B9A0}
LOCATION:
SUMMARY:Why CPD is essential for success
DESCRIPTION:Event details: https://www.iti.org.uk/training/events-calendar/why-cpd-is-essential-for-success.html
PRIORITY:1
END:VEVENT
END:VCALENDAR